BEGIN:VCALENDAR
VERSION:2.0
PRODID:-//Ville de Farnham - ECPv6.15.17.1//NONSGML v1.0//EN
CALSCALE:GREGORIAN
METHOD:PUBLISH
X-WR-CALNAME:Ville de Farnham
X-ORIGINAL-URL:https://ville.farnham.qc.ca
X-WR-CALDESC:Évènements pour Ville de Farnham
REFRESH-INTERVAL;VALUE=DURATION:PT1H
X-Robots-Tag:noindex
X-PUBLISHED-TTL:PT1H
BEGIN:VTIMEZONE
TZID:America/Montreal
BEGIN:DAYLIGHT
TZOFFSETFROM:-0500
TZOFFSETTO:-0400
TZNAME:EDT
DTSTART:20250309T070000
END:DAYLIGHT
BEGIN:STANDARD
TZOFFSETFROM:-0400
TZOFFSETTO:-0500
TZNAME:EST
DTSTART:20251102T060000
END:STANDARD
BEGIN:DAYLIGHT
TZOFFSETFROM:-0500
TZOFFSETTO:-0400
TZNAME:EDT
DTSTART:20260308T070000
END:DAYLIGHT
BEGIN:STANDARD
TZOFFSETFROM:-0400
TZOFFSETTO:-0500
TZNAME:EST
DTSTART:20261101T060000
END:STANDARD
BEGIN:DAYLIGHT
TZOFFSETFROM:-0500
TZOFFSETTO:-0400
TZNAME:EDT
DTSTART:20270314T070000
END:DAYLIGHT
BEGIN:STANDARD
TZOFFSETFROM:-0400
TZOFFSETTO:-0500
TZNAME:EST
DTSTART:20271107T060000
END:STANDARD
END:VTIMEZONE
BEGIN:VEVENT
DTSTART;TZID=America/Montreal:20260429T090000
DTEND;TZID=America/Montreal:20260429T190000
DTSTAMP:20260425T114232
CREATED:20260401T140019Z
LAST-MODIFIED:20260331T202629Z
UID:10000069-1777453200-1777489200@ville.farnham.qc.ca
SUMMARY:Collecte de sang
DESCRIPTION:Vous êtes à un clic de sauver des vies.\nVenez relever vos manches\, le temps d’un petit don de sang lors de la Collecte de sang organisée par les Chevaliers de Colomb – conseil 1051 Farnham.\n\n\n\nQUAND : Mercredi 29 avril\, de 9 h à 19h\nOÙ : Station-Pierre-Bériau (313\,rue de l’Hôtel-de-Ville)\n\n\n\nParlez-en à votre famille\, vos amis et vos collègues. Il y a amplement de chaises pour tous vous recevoir!\n\n\n\nPrenez rendez-vous dès maintenant : 1 800 343-7264 ou hemaquebec.ca
URL:https://ville.farnham.qc.ca/evenement-detail/collecte-de-sang-avril-2026/
LOCATION:Station-Pierre-Bériau\, 313\, rue de l'Hôtel-de-Ville\, Farnham\, Québec\, J2N 2H1\, Canada
CATEGORIES:Événements
ATTACH;FMTTYPE=image/png:https://ville.farnham.qc.ca/wp-content/uploads/2025/04/Collecte-de-sang-29-avril-2026.png
END:VEVENT
BEGIN:VEVENT
DTSTART;TZID=America/Montreal:20260509T080000
DTEND;TZID=America/Montreal:20260509T120000
DTSTAMP:20260425T114232
CREATED:20260409T183059Z
LAST-MODIFIED:20260421T131923Z
UID:10000066-1778313600-1778328000@ville.farnham.qc.ca
SUMMARY:Jardinons VERT l'été - Samedi 9 mai dès 8 h
DESCRIPTION:Encore cette année\, l’évènement Jardinons VERT l’été aura lieu à la Station-Pierre-Bériau (313\, rue de l’Hôtel-de-Ville) le samedi 9 mai\, à partir de 8 h*. Des arbustes\, des vivaces\, des plants de fines herbes et de légumes seront offerts gratuitement à la population farnhamienne. \n* Les heures pourront varier en fonction de l’achalandage. \n\nOffert aux résidents de Farnham (preuve de résidence ou carte Accès Farnham obligatoire).\nAucune inscription requise.\nDistribution selon le principe du premier arrivé.\nNombre maximal de quatre plants par propriété\, en plus des arbres et semences.\nN’oubliez pas d’apporter vos sacs pour le transport.\n\nL’événement aura lieu beau temps\, mauvais temps. Au plaisir de vous voir en grand nombre! \nListe des variétés : \nArbres – À venir! \n  \nArbustes \n \n \n  \n \n  \nFines herbes et légumes \n \n \n \n   \nSemences  \n \n  \nVivaces et annuelles \n \n \n 
URL:https://ville.farnham.qc.ca/evenement-detail/jardinons-vert-lete/
LOCATION:Station-Pierre-Bériau\, 313\, rue de l'Hôtel-de-Ville\, Farnham\, Québec\, J2N 2H1\, Canada
CATEGORIES:Événements
ATTACH;FMTTYPE=image/jpeg:https://ville.farnham.qc.ca/wp-content/uploads/2025/04/Jardinons-vert-lete-2026-1.jpg
END:VEVENT
BEGIN:VEVENT
DTSTART;TZID=America/Montreal:20261010T090000
DTEND;TZID=America/Montreal:20261011T170000
DTSTAMP:20260425T114232
CREATED:20260323T145128Z
LAST-MODIFIED:20260323T145128Z
UID:10000152-1791622800-1791738000@ville.farnham.qc.ca
SUMMARY:Festival du pawpaw de Farnham 2026
DESCRIPTION:Festival du pawpaw de Farnham 2026\nLes 10 et 11 octobre\nDe 9 h à 17 h (les deux jours)\nÀ la Station-Pierre-Bériau (313\, rue de l’Hôtel-de-Ville)\nEntrée gratuite! \nLe Festival du pawpaw de Farnham est de retour pour une nouvelle édition encore plus riche et savoureuse! \nPrésenté dans le cadre des festivités du 150e anniversaire de la Ville de Farnham\, cet événement unique met en valeur le pawpaw\, un fruit méconnu aux saveurs tropicales\, cultivé ici au Québec. \nPendant deux jours\, les visiteurs pourront découvrir plus de 30 exposants proposant une grande variété de produits élaborés à partir de pawpaw. L’événement offrira également une programmation diversifiée avec des conférenciers et des musiciens\, présentés dans un nouveau chapiteau qui s’ajoute au bâtiment principal. \nUne nouvelle aire de jeux pour enfants ainsi qu’un espace pique-nique seront aménagés afin de créer une expérience conviviale pour toute la famille. \nL’ambiance sur le site\, la qualité des produits offerts et l’originalité de l’événement promettent une expérience exceptionnelle pour tous les visiteurs. \n 
URL:https://ville.farnham.qc.ca/evenement-detail/festival-du-pawpaw-de-farnham-2026/
LOCATION:Station-Pierre-Bériau\, 313\, rue de l'Hôtel-de-Ville\, Farnham\, Québec\, J2N 2H1\, Canada
CATEGORIES:Activités du 150e
ATTACH;FMTTYPE=image/png:https://ville.farnham.qc.ca/wp-content/uploads/2026/03/Festival-Pawpaw-scaled.png
END:VEVENT
END:VCALENDAR